BEGIN:VCALENDAR
VERSION:2.0
PRODID:-//Squarespace Inc/Squarespace 6//v6//EN
BEGIN:VEVENT
UID:5b42d4582b6a28b390ccb4d1@squarespace.com
DTSTAMP:20180811T003253Z
DTSTART:20180813T231500Z
DTEND:20180814T003000Z
SUMMARY:PANEL - Looking Back
GEO:42.728743;-84.476721
LOCATION:Auditorium\, Michael Fowler Centre
END:VEVENT
END:VCALENDAR
