BEGIN:VCALENDAR
VERSION:2.0
PRODID:-//Squarespace Inc/Squarespace 6//v6//EN
BEGIN:VEVENT
UID:5b3b5f4e1ae6cf7a1e414c8a@squarespace.com
DTSTAMP:20180805T084404Z
DTSTART:20180813T213000Z
DTEND:20180813T223000Z
SUMMARY:KEYNOTE - Laura O'Connell Rapira
GEO:-41.28958;174.777852
LOCATION:Auditorium\, Michael Fowler Centre
END:VEVENT
END:VCALENDAR
