BEGIN:VCALENDAR
VERSION:2.0
PRODID:-//Squarespace Inc/Squarespace 6//v6//EN
BEGIN:VEVENT
UID:5b3c06a7aa4a9983df48af1d@squarespace.com
DTSTAMP:20180805T084508Z
DTSTART:20180814T213000Z
DTEND:20180814T223000Z
SUMMARY:KEYNOTE - Glenn Colquhoun
GEO:-41.28958;174.777852
LOCATION:Auditorium\, Michael Fowler Centre
END:VEVENT
END:VCALENDAR
