BEGIN:VCALENDAR
VERSION:2.0
PRODID:-//Squarespace Inc/Squarespace 6//v6//EN
BEGIN:VEVENT
UID:5b42d1370e2e72bb80707640@squarespace.com
DTSTAMP:20180811T000624Z
DTSTART:20180814T021500Z
DTEND:20180814T033000Z
SUMMARY:PANEL - Health\, Schools and Communities
GEO:42.728743;-84.476721
LOCATION:Auditorium\, Michael Fowler Centre
END:VEVENT
END:VCALENDAR
