BEGIN:VCALENDAR
VERSION:2.0
PRODID:-//Squarespace Inc/Squarespace 6//v6//EN
BEGIN:VEVENT
UID:5b3b4ef7562fa77d9341074f@squarespace.com
DTSTAMP:20180805T000922Z
DTSTART:20180813T231500Z
DTEND:20180814T003000Z
SUMMARY:WORKSHOP - Evolve: Where primary health care and youth development 
 meet
GEO:-41.291196;174.777118
LOCATION:Evolve Wellington Youth Service\, Level 2\, James Smith Building
END:VEVENT
END:VCALENDAR
