BEGIN:VCALENDAR
VERSION:2.0
PRODID:-//Squarespace Inc/Squarespace 6//v6//EN
BEGIN:VEVENT
UID:5b6e421c4d7a9c32557d3aa0@squarespace.com
DTSTAMP:20180812T113549Z
DTSTART:20180814T021500Z
DTEND:20180814T033000Z
SUMMARY:WORKSHOP - Atu-Mai digital approaches to youth wellbeing
GEO:-41.288194;174.776806
LOCATION:Wellington City Library Meeting Room\, 65 Victoria Street\, Wellin
 gton\, Wellington\, 6011\, New Zealand
END:VEVENT
END:VCALENDAR
