BEGIN:VCALENDAR
VERSION:2.0
PRODID:-//Squarespace Inc/Squarespace 6//v6//EN
BEGIN:VEVENT
UID:5b6666cb352f53d38137e8a2@squarespace.com
DTSTAMP:20180805T083727Z
DTSTART:20180814T040000Z
DTEND:20180814T053000Z
SUMMARY:CROWDSOURCING: Crowdsourcing the Future
GEO:-41.28958;174.777852
LOCATION:Auditorium\, Michael Fowler Centre
END:VEVENT
END:VCALENDAR
