BEGIN:VCALENDAR
VERSION:2.0
PRODID:-//Squarespace Inc/Squarespace 6//v6//EN
BEGIN:VEVENT
UID:5b3c11db352f53933a53ed9e@squarespace.com
DTSTAMP:20180810T044750Z
DTSTART:20180814T021500Z
DTEND:20180814T033000Z
SUMMARY:WORKSHOP - Choose your own evaluation adventure
GEO:-41.289118;174.776666
LOCATION:West Plaza\, 110 Wakefield Street\, Wellington\, Wellington\, 6011
 \, New Zealand
END:VEVENT
END:VCALENDAR
