BEGIN:VCALENDAR
VERSION:2.0
PRODID:-//Squarespace Inc/Squarespace 6//v6//EN
BEGIN:VEVENT
UID:5b3b40fe88251b554c5368a3@squarespace.com
DTSTAMP:20180810T045112Z
DTSTART:20180814T021500Z
DTEND:20180814T033000Z
SUMMARY: BUS STOPS - Mentoring
GEO:-41.28958;174.777852
LOCATION:Renouf 1\, Michael Fowler Centre
END:VEVENT
END:VCALENDAR
