BEGIN:VCALENDAR
VERSION:2.0
PRODID:-//Squarespace Inc/Squarespace 6//v6//EN
BEGIN:VEVENT
UID:5b3bf90c2b6a281733380216@squarespace.com
DTSTAMP:20180811T175433Z
DTSTART:20180813T080000Z
DTEND:20180813T093000Z
SUMMARY:Whakawhanaungatanga - guided connections
GEO:40.720756;-74.000761
LOCATION:Auditorium\, Michael Fowler Centre
END:VEVENT
END:VCALENDAR
