BEGIN:VCALENDAR
VERSION:2.0
PRODID:-//Squarespace Inc/Squarespace 6//v6//EN
BEGIN:VEVENT
UID:5b3c02fe1ae6cf89ccf6777c@squarespace.com
DTSTAMP:20180805T084437Z
DTSTART:20180814T210000Z
DTEND:20180814T213000Z
SUMMARY:Karakia timatanga and welcome
GEO:-41.28958;174.777852
LOCATION:Auditorium\, Michael Fowler Centre
END:VEVENT
END:VCALENDAR
