BEGIN:VCALENDAR
VERSION:2.0
PRODID:-//Squarespace Inc/Squarespace 6//v6//EN
BEGIN:VEVENT
UID:5b3b5c02aa4a9981e06360b9@squarespace.com
DTSTAMP:20180805T090815Z
DTSTART:20180813T043000Z
DTEND:20180813T054500Z
SUMMARY:Pōwhiri
END:VEVENT
END:VCALENDAR
