BEGIN:VCALENDAR
VERSION:2.0
PRODID:-//Squarespace Inc/Squarespace 6//v6//EN
BEGIN:VEVENT
UID:5b3b5d79f950b77a261f62ad@squarespace.com
DTSTAMP:20180811T174554Z
DTSTART:20180813T060000Z
DTEND:20180813T070000Z
SUMMARY:INVOLVE 2018 Opening Night dinner
GEO:40.720756;-74.000761
LOCATION:Mezzanine Floor Foyer\, Michael Fowler Centre
END:VEVENT
END:VCALENDAR
