BEGIN:VCALENDAR
VERSION:2.0
PRODID:-//Squarespace Inc/Squarespace 6//v6//EN
BEGIN:VEVENT
UID:5b3bfeb42b6a28173339075e@squarespace.com
DTSTAMP:20180811T175044Z
DTSTART:20180813T070000Z
DTEND:20180813T080000Z
SUMMARY:OPENING ADDRESS - Judge Andrew Becroft and Mana Williams-Eade
GEO:-41.28958;174.777852
LOCATION:Auditorium\, Michael Fowler Centre
END:VEVENT
END:VCALENDAR
