BEGIN:VCALENDAR
VERSION:2.0
PRODID:-//Squarespace Inc/Squarespace 6//v6//EN
BEGIN:VEVENT
UID:5b3bfa10aa4a9983df469737@squarespace.com
DTSTAMP:20180805T084337Z
DTSTART:20180813T210000Z
DTEND:20180813T213000Z
SUMMARY:Karakia timatanga and welcome
GEO:-41.28958;174.777852
LOCATION:Auditorium\, Michael Fowler Centre
END:VEVENT
END:VCALENDAR
